BEGIN:VCALENDAR
VERSION:2.0
PRODID:-//Peace Alliance Winnipeg News - ECPv6.2.6//NONSGML v1.0//EN
CALSCALE:GREGORIAN
METHOD:PUBLISH
X-ORIGINAL-URL:https://www.peacealliancewinnipeg.ca
X-WR-CALDESC:Events for Peace Alliance Winnipeg News
REFRESH-INTERVAL;VALUE=DURATION:PT1H
X-Robots-Tag:noindex
X-PUBLISHED-TTL:PT1H
BEGIN:VTIMEZONE
TZID:America/Winnipeg
BEGIN:DAYLIGHT
TZOFFSETFROM:-0600
TZOFFSETTO:-0500
TZNAME:CDT
DTSTART:20230312T080000
END:DAYLIGHT
BEGIN:STANDARD
TZOFFSETFROM:-0500
TZOFFSETTO:-0600
TZNAME:CST
DTSTART:20231105T070000
END:STANDARD
END:VTIMEZONE
BEGIN:VEVENT
DTSTART;TZID=America/Winnipeg:20230826T120000
DTEND;TZID=America/Winnipeg:20230826T140000
DTSTAMP:20260424T015728
CREATED:20230723T040930Z
LAST-MODIFIED:20230724T043606Z
UID:10630-1693051200-1693058400@www.peacealliancewinnipeg.ca
SUMMARY:Webinar: Manufacturing Consent for War in Canada and the United States
DESCRIPTION:  \nWars rarely begin on the battlefield. Long before the first shots are fired\, governments prepare their citizens to accept the death and destruction that would otherwise be unacceptable. In this webinar\, two extremely knowledgeable researchers\, Yves Engler and Colleen Bell\, will help us understand how public opinion is molded and manipulated in Canada and in the United States. \nDate: Saturday\, August 26\, 2023 \nTime: 12:00 Noon to 2:00 PM Central Time \nPlace: via Zoom \nAdmission: Admission is free. Register at Eventbrite.com. \nYves Engler’s presentation will describe how the Canadian government and military have suppressed and shaped the flow of information during wars. While the tactics have varied based on technologies\, balance of power and type of conflict\, the government has pursued extensive information control during wars. There was formal censorship during World War I\, WWII and the Korean War. In recent air wars\, the military largely shut the media out while in Afghanistan they brought reporters close. \nWhile Canada is not formally at war with Russia\, the political climate over the past year and a half has been remarkable. Easily demonstratable facts and history are all but expunged from a media sphere devoting extensive attention to the war in Ukraine. The repressive attitude towards anti-NATO and antiwar voices reflects policies from the first half of the 20th century. \nYves’s recommended readings \n\nA Propaganda System: How Canada’s Government\, Corporations\, Media and Academia Sell War and Exploitation\nRepression of anti-war voices an old Canadian story\nTruth always the first casualty of war — CBC proves it\n\nColleen Bell will discuss the role of martial public diplomacy in US Imperialism. Public diplomacy and war are generally considered antithetical concepts. The former signals dialogue and the search for shared understanding\, while the latter refers to the very breakdown of dialogue and a resort to coercion or all-out destruction. However\, in reality\, war and public relations activities are deeply entwined. In this talk Colleen will propose the concept of “martial public diplomacy” which lays the ground for the examination of a range of information\, influence and media practices that have been “synchronized” in US-led global contingency operations. Contemporary efforts by the US military to “shape the information environment” provide it with a robust role in public communications campaigns within and beyond the battlefield. \nColleen’s recommended readings \n\nBell\, Colleen. 2018. Celebrity power and powers of war: the rise of the COINdinistas in American popular media\,Critical Military Studies\, 4:3\, 244-263\, DOI: 10.1080/23337486.2016.1268370\nMacKenzie\, Megan and Nicole Wegner. 2021. Feminist Solutions for Ending War. London: Pluto Press.\nMirrlees\, Tanner. 2016. Hearts and Mines: The US Empire’s Culture Industry. University of British Columbia Press.\nShipley\, Tyler. 2020. Canada in the World: Settler Capitalism and the Colonial Imagination. Halifax and Winnipeg: Fernwood Publishing.\n\nPresenters \n \nYves Engler: Dubbed “Canada’s version of Noam Chomsky” (Georgia Straight)\, “one of the most important voices on the Canadian Left” (Briarpatch)\, “in the mould of I. F. Stone” (Globe and Mail)\, “part of that rare but growing group of social critics unafraid to confront Canada’s self-satisfied myths” (Quill & Quire)\, “ever-insightful” (Rabble)\, “Chomsky-styled iconoclast” (Counterpunch) and a “Leftist gadfly” (Ottawa Citizen)\, Yves Engler (yvesengler.com) has twelve published books. His latest is Stand on Guard for Whom? — A People’s History of the Canadian Military. \nColleen Bell: Professor Bell is an associate professor in the political studies department at the University of Saskatchewan. She is an international relations scholar specializing in theorizations of war and security\, and the contested boundary between military and civilian operations in Western counterterrorism\, counterinsurgency\, and stabilizations missions. She is author of The Freedom of Security: Governing Canada in the Age of Counterterrorism (UBC Press) and co-editor of War\, Police and Assemblages of Intervention (with Jan Bachmann and Caroline Holmqvist). Her current research projects examine police power in global politics\, martial public diplomacy\, and the security politics of \nCanada’s feminist foreign policy. Bell is past president of the International Studies Association-Canada section and current editor of Critical Studies on Security. \nModerator \nRadhika Desai is Professor at the Department of Political Studies\, and Director\, Geopolitical Economy Research Group\, at the University of Manitoba. Her books include Capitalism\, Coronavirus and War: A Geopolitical Economy (2023)\, Geopolitical Economy: After US Hegemony\, Globalization and Empire (2013)\, Slouching Towards Ayodhya: From Congress to Hindutva in Indian Politics (2nd rev ed\, 2004) and Intellectuals and Socialism: ‘Social Democrats’ and the Labour Party (1994)\, a New Statesman and Society Book of the Month.
URL:https://www.peacealliancewinnipeg.ca/event/webinar-manufacturing-consent-for-war-in-canada-and-the-united-states/
ATTACH;FMTTYPE=image/jpeg:https://www.peacealliancewinnipeg.ca/wp-content/uploads/manufacturing-consent-for-war-facebook.jpg
END:VEVENT
END:VCALENDAR