BEGIN:VCALENDAR
VERSION:2.0
PRODID:-//Peace Alliance Winnipeg News - ECPv6.2.6//NONSGML v1.0//EN
CALSCALE:GREGORIAN
METHOD:PUBLISH
X-ORIGINAL-URL:https://www.peacealliancewinnipeg.ca
X-WR-CALDESC:Events for Peace Alliance Winnipeg News
REFRESH-INTERVAL;VALUE=DURATION:PT1H
X-Robots-Tag:noindex
X-PUBLISHED-TTL:PT1H
BEGIN:VTIMEZONE
TZID:America/Winnipeg
BEGIN:DAYLIGHT
TZOFFSETFROM:-0600
TZOFFSETTO:-0500
TZNAME:CDT
DTSTART:20240310T080000
END:DAYLIGHT
BEGIN:STANDARD
TZOFFSETFROM:-0500
TZOFFSETTO:-0600
TZNAME:CST
DTSTART:20241103T070000
END:STANDARD
END:VTIMEZONE
BEGIN:VEVENT
DTSTART;TZID=America/Winnipeg:20240928T190000
DTEND;TZID=America/Winnipeg:20240928T210000
DTSTAMP:20260423T032640
CREATED:20240912T215252Z
LAST-MODIFIED:20240926T150243Z
UID:11012-1727550000-1727557200@www.peacealliancewinnipeg.ca
SUMMARY:Walk Against War
DESCRIPTION:Join us on our annual “Walk for Peace” through Nuit Blanche. A mobile\, multimedia event designed to raise awareness of the growing danger of world war. \nWalk Against War – September 28\, 7:00 PM. Meet at City Hall\, our walk will begin at 7:30. \nWalk Against War will bring its message to Winnipeggers attending Nuit Blanche Winnipeg using music\, posters and speeches. Walk Against War is sponsored by Peace Alliance Winnipeg in partnership with various Winnipeg community organizations. \nWe hope you will join us! \nEndorsed by: Association of United Ukrainian Canadians\, Communist Party Of Canada (Manitoba)\, Community Solidarity Manitoba\, CUPE 2348\, Ethnorama News Winnipeg\, Green Party of Manitoba\, ICNA Sisters Canada\, Independent Jewish Voices\, Manitoba-Cuba Solidarity Committee\, No Nukes Manitoba\, Social Planning Council of Winnipeg\, Quakers (Winnipeg)\, Tuesday Group\, Women’s March Winnipeg\, Young Communist League Manitoba
URL:https://www.peacealliancewinnipeg.ca/event/walk-against-war/
LOCATION:Winnipeg City Hall\, 510 Main Street\, Winnipeg\, Manitoba\, Canada
ATTACH;FMTTYPE=image/png:https://www.peacealliancewinnipeg.ca/wp-content/uploads/walk-against-war.png
END:VEVENT
END:VCALENDAR