BEGIN:VCALENDAR
VERSION:2.0
PRODID:-//Peace Alliance Winnipeg News - ECPv6.2.6//NONSGML v1.0//EN
CALSCALE:GREGORIAN
METHOD:PUBLISH
X-ORIGINAL-URL:https://www.peacealliancewinnipeg.ca
X-WR-CALDESC:Events for Peace Alliance Winnipeg News
REFRESH-INTERVAL;VALUE=DURATION:PT1H
X-Robots-Tag:noindex
X-PUBLISHED-TTL:PT1H
BEGIN:VTIMEZONE
TZID:America/Winnipeg
BEGIN:DAYLIGHT
TZOFFSETFROM:-0600
TZOFFSETTO:-0500
TZNAME:CDT
DTSTART:20260308T080000
END:DAYLIGHT
BEGIN:STANDARD
TZOFFSETFROM:-0500
TZOFFSETTO:-0600
TZNAME:CST
DTSTART:20261101T070000
END:STANDARD
END:VTIMEZONE
BEGIN:VEVENT
DTSTART;TZID=America/Winnipeg:20260123T180000
DTEND;TZID=America/Winnipeg:20260123T200000
DTSTAMP:20260421T143100
CREATED:20260119T195938Z
LAST-MODIFIED:20260119T195938Z
UID:11356-1769191200-1769198400@www.peacealliancewinnipeg.ca
SUMMARY:Understanding Gaza in the Light of History
DESCRIPTION:Date: Friday\, January 23\, 2026 \nTime: 6:00 PM \nVenue: MHC Gallery\, 610 Shaftsbury Blvd.\, Winnipeg \nJoin us for a free public presentation by Dr. Rachad Antonius (Université du Québec à Montréal). \nDr. Antonius will speak about the century-long dispossession of Palestinians and how this history helps us understand Gaza today\, along with strategies for meaningful advocacy. \nOpen to all. Light refreshments will be provided. \nRegister or learn more:\nhttps://www.eventbrite.ca/e/1980832471244 \nWe hope to see you there. To make this more accessible\, the gallery will remain open until 8 PM that evening\, so you can visit the exhibition before or after the talk. \nSponsor: Manitoba Women for Palestine
URL:https://www.peacealliancewinnipeg.ca/event/understanding-gaza-in-the-light-of-history/
LOCATION:Canadian Mennonite University\, 610 Shaftsbury Blbd\, Winnipeg\, Manitoba\, Canada
END:VEVENT
END:VCALENDAR