BEGIN:VCALENDAR
VERSION:2.0
PRODID:-//Peace Alliance Winnipeg News - ECPv6.2.6//NONSGML v1.0//EN
CALSCALE:GREGORIAN
METHOD:PUBLISH
X-ORIGINAL-URL:https://www.peacealliancewinnipeg.ca
X-WR-CALDESC:Events for Peace Alliance Winnipeg News
REFRESH-INTERVAL;VALUE=DURATION:PT1H
X-Robots-Tag:noindex
X-PUBLISHED-TTL:PT1H
BEGIN:VTIMEZONE
TZID:America/Winnipeg
BEGIN:DAYLIGHT
TZOFFSETFROM:-0600
TZOFFSETTO:-0500
TZNAME:CDT
DTSTART:20260308T080000
END:DAYLIGHT
BEGIN:STANDARD
TZOFFSETFROM:-0500
TZOFFSETTO:-0600
TZNAME:CST
DTSTART:20261101T070000
END:STANDARD
END:VTIMEZONE
BEGIN:VEVENT
DTSTART;TZID=America/Winnipeg:20260221T130000
DTEND;TZID=America/Winnipeg:20260221T140000
DTSTAMP:20260421T101934
CREATED:20260219T212137Z
LAST-MODIFIED:20260219T212447Z
UID:11426-1771678800-1771682400@www.peacealliancewinnipeg.ca
SUMMARY:Rally: Let Cuba Live
DESCRIPTION:  \n\nThe Winnipeg part of this national day of action is organized by Manitoba-Cuba Solidarity Committee. \nDate: Saturday\, Feb. 21\, 2026 \nTime: 1:00 – 2:00 pm \nWhere: outside the US Consulate at 201 Portage Avenue \nSee also . . . \nPEOPLE’S TRIBUNAL – SUNDAY FEBRUARY 22ND AT 1:30PM \nManitoba-Cuba Solidarity Committee & friends will be gathering at WestEnd Commons\, 365 McGee St.\, to watch the livestream of the CNC’s People’s Tribunal on Sunday afternoon at 1:30pm. It can also be watched at home through the Canadian Network on Cuba’s social media\, Facebook or YouTube. \n\n\nhttps://www.facebook.com/CanadianNetworkOnCuba\n\n\nhttps://youtube.com/canadiannetworkoncuba
URL:https://www.peacealliancewinnipeg.ca/event/rally-let-cuba-live/
LOCATION:United States Consulate\, 201 Portage Avenue\, Winnipeg\, Manitoba\, Canada
END:VEVENT
BEGIN:VEVENT
DTSTART;TZID=America/Winnipeg:20260301T120000
DTEND;TZID=America/Winnipeg:20260301T130000
DTSTAMP:20260421T101934
CREATED:20260228T203018Z
LAST-MODIFIED:20260228T203113Z
UID:11441-1772366400-1772370000@www.peacealliancewinnipeg.ca
SUMMARY:Winnipeg Rally: Hands off Iran!
DESCRIPTION:Hands off Iran\nNo to U.S./Israeli War on Iran\nCondemn Carney’s Support for U.S./Israeli Attacks \nPeace Alliance Winnipeg has organized an action for tomorrow\, Sunday\, March 1\, at noon at the U.S. Consulate\, Portage and Main. Please share this message and join us.
URL:https://www.peacealliancewinnipeg.ca/event/winnipegrally-hands-off-iran/
LOCATION:United States Consulate\, 201 Portage Avenue\, Winnipeg\, Manitoba\, Canada
END:VEVENT
BEGIN:VEVENT
DTSTART;TZID=America/Winnipeg:20260320T190000
DTEND;TZID=America/Winnipeg:20260320T210000
DTSTAMP:20260421T101934
CREATED:20260302T171128Z
LAST-MODIFIED:20260302T172529Z
UID:11449-1774033200-1774040400@www.peacealliancewinnipeg.ca
SUMMARY:Justice for Hassan Diab
DESCRIPTION:Join us Friday\, March 20 for Justice for Professor Hassan Diab\, a webinar and information evening\, hosted by Peace Alliance Winnipeg and other social justice organizations. Guests are welcome to join us online or in-person. \n\nHear from Professor Diab himself as well as his lawyer Donald Bayne about how this case is an especially egregious example of the failures of the Canadian justice system and our biased extradition laws. The injustice began in 2008 when the then University of Ottawa Professor was arrested by the RCMP for a 1980 Paris synagogue bombing. He has always maintained his innocence. Canada then extradited Professor Diab to France in 2011\, where he would spend more than three years in prison\, most of it in solitary confinement\, despite never being charged with a crime. Today Diab has is still being relentlessly pursued by the French legal system. Although in 2018 he was finally permitted to return home to Canada\, as recently as April 2023 Professor Diab was convicted in absentia in France after an unfair trial. \n\nThis case is an especially egregious example of the failures of the Canadian justice system and our biased extradition laws. Join us for this important meeting to hear from social justice groups on the case and find out how you can become involved to support Professor Diab. \n\nThe event is free but donations are welcome. \nUkrainian Labour Temple \n591 Pritchard Avenue \n7:00 PM \nMarch 20\, 2026 \nRegister for zoom webinar. More information: https://www.justiceforhassandiab.org/
URL:https://www.peacealliancewinnipeg.ca/event/justice-for-hassan-diab/
LOCATION:Ukrainian Labour Temple\, 591 Pritchard Avenue\, Winnipeg\, Manitoba\, Canada
END:VEVENT
BEGIN:VEVENT
DTSTART;TZID=America/Winnipeg:20260410T190000
DTEND;TZID=America/Winnipeg:20260410T210000
DTSTAMP:20260421T101934
CREATED:20260303T205224Z
LAST-MODIFIED:20260314T194527Z
UID:11459-1775847600-1775854800@www.peacealliancewinnipeg.ca
SUMMARY:Book Launch: Canada & NATO: Myth of a Global Peacekeeper
DESCRIPTION:Join author Owen Schalk at the launch of his new book\, Canada & NATO: Myth of a Global Peacekeeper. His book disrupts the popular perception of NATO in the West—that it is a defensive\, collective security organization—and explains that this is a myth. The book aims to prove five central points: 1) NATO has always been an offensive alliance\, 2) the wars it wages are not just\, 3) its existence and expansion stirs global tensions and raises the risk of global war\, 4) it undermines Canadian sovereignty\, and 5) it diverts resources that can serve the social needs of Canadians into a largely US-owned arms industry. Schalk thus makes a compelling argument that Canadians should oppose NATO and support their government’s withdrawal from the alliance. \nDate: Friday\, April 10\, 2026\nTime: 7:00 pm\nPlace: McNally Robinson Booksellers\, Grant Park Shopping Mall\, 1120 Grant Avenue\, Winnipeg \nMore information and pre-order the book: https://www.mcnallyrobinson.com/9781997544074/owen-schalk/canada-and-nato-myth-of-a-global-peacekeeper. \nYouTube Livestream Link: https://www.youtube.com/watch?v=aLMfVuzIHso
URL:https://www.peacealliancewinnipeg.ca/event/book-launch-canada-nato-myth-of-a-global-peacekeeper/
LOCATION:McNally Robinson Books\, 1120 Grant Avenue\, Unit 4000\, Winnipeg\, Manitoba\, Canada
END:VEVENT
BEGIN:VEVENT
DTSTART;TZID=America/Winnipeg:20260418T130000
DTEND;TZID=America/Winnipeg:20260418T160000
DTSTAMP:20260421T101934
CREATED:20260416T211212Z
LAST-MODIFIED:20260416T211212Z
UID:11495-1776517200-1776528000@www.peacealliancewinnipeg.ca
SUMMARY:Peace Alliance Winnipeg Annual Meeting
DESCRIPTION:Date: Saturday April 18\, 2026\nTime: 1:00 pm\nPlace: West End Commons\, 641 St Matthews Ave\, entrance on McGee Street \nPlease attend our Annual General Meeting and help build the peace movement that is needed now more than ever. \nWhile anyone may attend a PAW AGM\, only paid-up members may vote. To be eligible to vote at the Annual General Meeting membership must be confirmed at least ten days prior to the meeting. \nEven if you have not updated your membership\, you are more than welcome to attend and participate.
URL:https://www.peacealliancewinnipeg.ca/event/peace-alliance-winnipeg-annual-meeting/
LOCATION:West End Commons\, 641 St. Matthews Avenue\, Winnipeg\, Manitoba\, Canada
END:VEVENT
BEGIN:VEVENT
DTSTART;TZID=America/Winnipeg:20260419T130000
DTEND;TZID=America/Winnipeg:20260419T140000
DTSTAMP:20260421T101934
CREATED:20260416T210900Z
LAST-MODIFIED:20260418T160350Z
UID:11492-1776603600-1776607200@www.peacealliancewinnipeg.ca
SUMMARY:Day of Action for Cuba
DESCRIPTION:
URL:https://www.peacealliancewinnipeg.ca/event/day-of-acion-for-cuba/
LOCATION:United States Consulate\, 201 Portage Avenue\, Winnipeg\, Manitoba\, Canada
END:VEVENT
BEGIN:VEVENT
DTSTART;TZID=America/Winnipeg:20260425T130000
DTEND;TZID=America/Winnipeg:20260425T150000
DTSTAMP:20260421T101934
CREATED:20260416T211743Z
LAST-MODIFIED:20260416T212341Z
UID:11498-1777122000-1777129200@www.peacealliancewinnipeg.ca
SUMMARY:Demonstration: Stop Endless Wars
DESCRIPTION:
URL:https://www.peacealliancewinnipeg.ca/event/demonstration-stop-endless-wars/
LOCATION:Manitoba Legislature\, 450 Broadway\, Winnipeg\, Manitoba\, R3C 0V8\, Canada
END:VEVENT
BEGIN:VEVENT
DTSTART;TZID=America/Winnipeg:20260522T190000
DTEND;TZID=America/Winnipeg:20260522T210000
DTSTAMP:20260421T101934
CREATED:20260416T212119Z
LAST-MODIFIED:20260416T212207Z
UID:11502-1779476400-1779483600@www.peacealliancewinnipeg.ca
SUMMARY:Film: Earth's Greatest Enemy
DESCRIPTION:Date: Friday May 22nd\,\nTime: 7 p.m.\nPlace: Dave Barber Cinematheque (Main Floor\, 100 Arthur Street\, Winnipeg)\nTickets: at https://davebarbercinematheque.com/screenings/ \nA documentary exposé of world’s biggest-and unaccountable polluter: the US military. Learn the environmental cost of having a military empire. Includes a live post-screening conversation with\nfilmmaker Abby Martin. \nCo-presented by Peace Alliance Winnipeg\, the Dave Barber Cinematheque\,  Manitoba Energy Justice Coalition\, and the Manitoba Eco Network.
URL:https://www.peacealliancewinnipeg.ca/event/film-earths-greatest-enemy/
LOCATION:Dave Barber Cinematheque\, 100 Arthur Street\, Winnipeg\, Manitoba\, Canada
END:VEVENT
END:VCALENDAR